BEGIN:VCALENDAR
VERSION:2.0
PRODID:-//Plone.org//NONSGML plone.app.event//EN
X-WR-TIMEZONE:Europe/Madrid
BEGIN:VEVENT
SUMMARY:Concentració nocturna: La nit serà violeta
DTSTART;TZID=Europe/Madrid;VALUE=DATE-TIME:20190920T193000
DTEND;TZID=Europe/Madrid;VALUE=DATE-TIME:20190920T203000
DTSTAMP;VALUE=DATE-TIME:20260423T015940Z
UID:39c1f9084c245f7db4d8931d017b100f
CREATED;VALUE=DATE-TIME:20190920T000000Z
DESCRIPTION:20 de setembre, a les 19:30h davant l'Ajuntament. Demanem que tots els assistents portin llums, llanternes, espelmes, etc.. per il·luminar la foscor
URL:https://caldetes.cat/document.php?id=7440
END:VEVENT
END:VCALENDAR