BEGIN:VCALENDAR
VERSION:2.0
PRODID:-//Plone.org//NONSGML plone.app.event//EN
X-WR-TIMEZONE:Europe/Madrid
BEGIN:VEVENT
SUMMARY:Per uns espais naturals lliures d´escombraries!
DTSTART;TZID=Europe/Madrid;VALUE=DATE-TIME:20190925T000000
DTEND;TZID=Europe/Madrid;VALUE=DATE-TIME:20190925T010000
DTSTAMP;VALUE=DATE-TIME:20260422T043153Z
UID:ef2fb945b2434e8ced32f3ea5d9107fb
CREATED;VALUE=DATE-TIME:20190924T000000Z
LOCATION:Plaça de les Barques
ORGANIZER:SEObirdlife
COMMENT:Durada: de 9:00h a 20:00h
URL:https://caldetes.cat/document.php?id=7443
END:VEVENT
END:VCALENDAR