BEGIN:VCALENDAR
VERSION:2.0
PRODID:-//Plone.org//NONSGML plone.app.event//EN
X-WR-TIMEZONE:Europe/Madrid
BEGIN:VEVENT
SUMMARY:Reunió de preparació de la commemoració dels 800 anys de vida de Caldes d´Estrac
DTSTART;TZID=Europe/Madrid;VALUE=DATE-TIME:20190927T190000
DTEND;TZID=Europe/Madrid;VALUE=DATE-TIME:20190927T200000
DTSTAMP;VALUE=DATE-TIME:20260423T162505Z
UID:1c771ffefb1a644d9808fc185766b8cf
CREATED;VALUE=DATE-TIME:20190927T000000Z
LOCATION:Sala Cultural
DESCRIPTION:27 de setembre, a les 19h, a la Sala Cultural
URL:https://caldetes.cat/document.php?id=7446
END:VEVENT
END:VCALENDAR