BEGIN:VCALENDAR
VERSION:2.0
PRODID:-//Plone.org//NONSGML plone.app.event//EN
X-WR-TIMEZONE:Europe/Madrid
BEGIN:VEVENT
SUMMARY:Activitats de tardor a l'Espai Jove
DTSTART;TZID=Europe/Madrid;VALUE=DATE-TIME:20191017T180000
DTEND;TZID=Europe/Madrid;VALUE=DATE-TIME:20191017T190000
DTSTAMP;VALUE=DATE-TIME:20260425T190112Z
UID:ec59c00848a66870c15bc780d5846c7c
CREATED;VALUE=DATE-TIME:20191017T000000Z
ORGANIZER:Espai Jove
DESCRIPTION:TALLER GASTRONÒMIC INTERGENERACIONAL
URL:https://caldetes.cat/document.php?id=7448
END:VEVENT
END:VCALENDAR