BEGIN:VCALENDAR
VERSION:2.0
PRODID:-//Plone.org//NONSGML plone.app.event//EN
X-WR-TIMEZONE:Europe/Madrid
BEGIN:VEVENT
SUMMARY:Activitats de tardor a l'Espai Jove
DTSTART;TZID=Europe/Madrid;VALUE=DATE-TIME:20191019T170000
DTEND;TZID=Europe/Madrid;VALUE=DATE-TIME:20191019T180000
DTSTAMP;VALUE=DATE-TIME:20260426T013507Z
UID:8364b8db17fbd2fe189b374f95a61fb6
CREATED;VALUE=DATE-TIME:20191019T000000Z
ORGANIZER:Espai Jove
DESCRIPTION:Espai Jove al Parc Muntanyà
URL:https://caldetes.cat/document.php?id=7449
END:VEVENT
END:VCALENDAR