BEGIN:VCALENDAR
VERSION:2.0
PRODID:-//Plone.org//NONSGML plone.app.event//EN
X-WR-TIMEZONE:Europe/Madrid
BEGIN:VEVENT
SUMMARY:Activitats de tardor a l'Espai Jove
DTSTART;TZID=Europe/Madrid;VALUE=DATE-TIME:20191024T180000
DTEND;TZID=Europe/Madrid;VALUE=DATE-TIME:20191024T190000
DTSTAMP;VALUE=DATE-TIME:20260425T214424Z
UID:242b4af73381fbfdbbe2e8559add6287
CREATED;VALUE=DATE-TIME:20191024T000000Z
LOCATION:Espai Jove - La Fabriqueta
ORGANIZER:Espai Jove
COMMENT:Durada: De 18 a 19:30h
DESCRIPTION:Preparació Castanyada Terrorífica
URL:https://caldetes.cat/document.php?id=7450
END:VEVENT
END:VCALENDAR