BEGIN:VCALENDAR
VERSION:2.0
PRODID:-//Plone.org//NONSGML plone.app.event//EN
X-WR-TIMEZONE:Europe/Madrid
BEGIN:VEVENT
SUMMARY:Assemblea Oberta de l'ANC
DTSTART;TZID=Europe/Madrid;VALUE=DATE-TIME:20191001T203000
DTEND;TZID=Europe/Madrid;VALUE=DATE-TIME:20191001T213000
DTSTAMP;VALUE=DATE-TIME:20260422T205307Z
UID:7f3a0beebdd4f3dd0e75aafa2956c1c8
CREATED;VALUE=DATE-TIME:20191001T000000Z
LOCATION:Plaça de la Vila
URL:https://caldetes.cat/document.php?id=7455
END:VEVENT
END:VCALENDAR