BEGIN:VCALENDAR
VERSION:2.0
PRODID:-//Plone.org//NONSGML plone.app.event//EN
X-WR-TIMEZONE:Europe/Madrid
BEGIN:VEVENT
SUMMARY:Nit de tapes i música al mercat municipal
DTSTART;TZID=Europe/Madrid;VALUE=DATE-TIME:20191026T200000
DTEND;TZID=Europe/Madrid;VALUE=DATE-TIME:20191026T210000
DTSTAMP;VALUE=DATE-TIME:20260425T164538Z
UID:80a57cd0a155362a95ceb8c909d162bd
CREATED;VALUE=DATE-TIME:20191026T000000Z
CATEGORIES:Mostra
LOCATION:Mercat Muncipal
ORGANIZER:Mercat Municipal
COMMENT:Preu: des de 1&euro;
Durada: a partir de les 20:00
URL:https://caldetes.cat/document.php?id=7457
END:VEVENT
END:VCALENDAR