BEGIN:VCALENDAR
VERSION:2.0
PRODID:-//Plone.org//NONSGML plone.app.event//EN
X-WR-TIMEZONE:Europe/Madrid
BEGIN:VEVENT
SUMMARY:PROMOCIÓ OCTUBRE 2019
DTSTART;TZID=Europe/Madrid;VALUE=DATE-TIME:20191031T000000
DTEND;TZID=Europe/Madrid;VALUE=DATE-TIME:20191031T010000
DTSTAMP;VALUE=DATE-TIME:20260423T120428Z
UID:8c2189d5539a7815dc4c2cf0e1c23f0c
CREATED;VALUE=DATE-TIME:20191001T000000Z
CATEGORIES:Esports
LOCATION:Complex Esportiu Municipal
ORGANIZER:SIGE 2005, S.L.
COMMENT:Durada: Fins el 31 d'octubre de 2019
DESCRIPTION:NO VALEN EXCUSES!
URL:https://caldetes.cat/document.php?id=7458
END:VEVENT
END:VCALENDAR