BEGIN:VCALENDAR
VERSION:2.0
PRODID:-//Plone.org//NONSGML plone.app.event//EN
X-WR-TIMEZONE:Europe/Madrid
BEGIN:VEVENT
SUMMARY:ELS DIUMENGES DE LA FUNDACIÓ PALAU
DTSTART;TZID=Europe/Madrid;VALUE=DATE-TIME:20191006T113000
DTEND;TZID=Europe/Madrid;VALUE=DATE-TIME:20191006T123000
DTSTAMP;VALUE=DATE-TIME:20260423T161443Z
UID:c1047fa68512e2e4766eba80d854584c
CREATED;VALUE=DATE-TIME:20191006T000000Z
CATEGORIES:Infantils
LOCATION:Fundació Palau
ORGANIZER:Fundació Palau
COMMENT:Preu: 4 euros
Durada: 11:30-13h
DESCRIPTION:LA TAULA CUBISTA. ACTIVITAT FAMILIAR
URL:https://caldetes.cat/document.php?id=7463
END:VEVENT
END:VCALENDAR