BEGIN:VCALENDAR
VERSION:2.0
PRODID:-//Plone.org//NONSGML plone.app.event//EN
X-WR-TIMEZONE:Europe/Madrid
BEGIN:VEVENT
SUMMARY:Tuna Race Balfegó
DTSTART;TZID=Europe/Madrid;VALUE=DATE-TIME:20191027T000000
DTEND;TZID=Europe/Madrid;VALUE=DATE-TIME:20191027T010000
DTSTAMP;VALUE=DATE-TIME:20260425T231304Z
UID:c547cfb8b345674ea5b5e96867032be3
CREATED;VALUE=DATE-TIME:20191027T000000Z
LOCATION:Platja dels Tres Micos de Caldes d'Estrac
COMMENT:Durada: A partir de les 7:30h
DESCRIPTION:Competició esportiva 1,5km/ 4km
URL:https://caldetes.cat/document.php?id=7466
END:VEVENT
END:VCALENDAR