BEGIN:VCALENDAR
VERSION:2.0
PRODID:-//Plone.org//NONSGML plone.app.event//EN
X-WR-TIMEZONE:Europe/Madrid
BEGIN:VEVENT
SUMMARY:Portes obertes a la Fundació Palau + Ruta Literària PERLA DE POETES
DTSTART;TZID=Europe/Madrid;VALUE=DATE-TIME:20191012T120000
DTEND;TZID=Europe/Madrid;VALUE=DATE-TIME:20191012T130000
DTSTAMP;VALUE=DATE-TIME:20260424T111600Z
UID:cc0bdcbc26761bdec32006da91313032
CREATED;VALUE=DATE-TIME:20191012T000000Z
CATEGORIES:Mostra
LOCATION:Fundació Palau
ORGANIZER:Fundació Palau
URL:https://caldetes.cat/document.php?id=7472
END:VEVENT
END:VCALENDAR