BEGIN:VCALENDAR
VERSION:2.0
PRODID:-//Plone.org//NONSGML plone.app.event//EN
X-WR-TIMEZONE:Europe/Madrid
BEGIN:VEVENT
SUMMARY:Projecció i col·loqui documental "Les nostres accions, el nostre poder : del pacifisme a la lluita no violenta":
DTSTART;TZID=Europe/Madrid;VALUE=DATE-TIME:20191011T180000
DTEND;TZID=Europe/Madrid;VALUE=DATE-TIME:20191011T190000
DTSTAMP;VALUE=DATE-TIME:20260424T095242Z
UID:a319669a9116b111f5811e31578f1554
CREATED;VALUE=DATE-TIME:20191011T000000Z
CATEGORIES:Cinema
LOCATION:Sala Cultural - 1r pis de l'Ajuntament de Caldes d'Estrac, Pl. de la Vila s/n
ORGANIZER:ANC Caldes d'Estrac
URL:https://caldetes.cat/document.php?id=7475
END:VEVENT
END:VCALENDAR