BEGIN:VCALENDAR
VERSION:2.0
PRODID:-//Plone.org//NONSGML plone.app.event//EN
X-WR-TIMEZONE:Europe/Madrid
BEGIN:VEVENT
SUMMARY:Torneig de Petanca
DTSTART;TZID=Europe/Madrid;VALUE=DATE-TIME:20100905T100000
DTEND;TZID=Europe/Madrid;VALUE=DATE-TIME:20100905T110000
DTSTAMP;VALUE=DATE-TIME:20260422T155753Z
UID:fb62e44d6fc7d1db2ca5aae1b3d7fa78
CREATED;VALUE=DATE-TIME:20100905T000000Z
LOCATION:Pistes Municipals de Petanca
ORGANIZER:Club Petanca Caldes d'Estrac
DESCRIPTION:Festa Major 2010
URL:https://caldetes.cat/document.php?id=752
END:VEVENT
END:VCALENDAR