BEGIN:VCALENDAR
VERSION:2.0
PRODID:-//Plone.org//NONSGML plone.app.event//EN
X-WR-TIMEZONE:Europe/Madrid
BEGIN:VEVENT
SUMMARY:PROMOCIÓ NOVEMBRE 2019
DTSTART;TZID=Europe/Madrid;VALUE=DATE-TIME:20191130T000000
DTEND;TZID=Europe/Madrid;VALUE=DATE-TIME:20191130T010000
DTSTAMP;VALUE=DATE-TIME:20260423T120032Z
UID:1cefa7bab78a23018868e1724268effd
CREATED;VALUE=DATE-TIME:20191101T000000Z
CATEGORIES:Esports
LOCATION:Complex Esportiu Municipal
ORGANIZER:SIGE 2005, S.L.
COMMENT:Durada: Fins el 30 de novembre de 2019
DESCRIPTION:NO PERDIS EL TEMPS!
URL:https://caldetes.cat/document.php?id=7531
END:VEVENT
END:VCALENDAR