BEGIN:VCALENDAR
VERSION:2.0
PRODID:-//Plone.org//NONSGML plone.app.event//EN
X-WR-TIMEZONE:Europe/Madrid
BEGIN:VEVENT
SUMMARY:Repicada general de Campanes en Honor a la Mare de Déu del Remei
DTSTART;TZID=Europe/Madrid;VALUE=DATE-TIME:20100908T100000
DTEND;TZID=Europe/Madrid;VALUE=DATE-TIME:20100908T110000
DTSTAMP;VALUE=DATE-TIME:20260426T032746Z
UID:64d29d3f41904798c4e1af94f5b6b74a
CREATED;VALUE=DATE-TIME:20100908T000000Z
ORGANIZER:Parròquia de Santa Maria
DESCRIPTION:Festa Major 2010
URL:https://caldetes.cat/document.php?id=757
END:VEVENT
END:VCALENDAR