BEGIN:VCALENDAR
VERSION:2.0
PRODID:-//Plone.org//NONSGML plone.app.event//EN
X-WR-TIMEZONE:Europe/Madrid
BEGIN:VEVENT
SUMMARY:Missa solemne concelebrada
DTSTART;TZID=Europe/Madrid;VALUE=DATE-TIME:20100908T120000
DTEND;TZID=Europe/Madrid;VALUE=DATE-TIME:20100908T130000
DTSTAMP;VALUE=DATE-TIME:20260425T181320Z
UID:23027ab2d5391a82b44e169dc6d1f6ed
CREATED;VALUE=DATE-TIME:20100908T000000Z
LOCATION:Parròquia de Santa Maria
ORGANIZER:Parròquia de Santa Maria
DESCRIPTION:Festa Major 2010
URL:https://caldetes.cat/document.php?id=758
END:VEVENT
END:VCALENDAR