BEGIN:VCALENDAR
VERSION:2.0
PRODID:-//Plone.org//NONSGML plone.app.event//EN
X-WR-TIMEZONE:Europe/Madrid
BEGIN:VEVENT
SUMMARY:HORA DEL CONTE: "&OpenCurlyDoubleQuote;Contes de la Iaia Antònia&CloseCurlyDoubleQuote;&CloseCurlyDoubleQuote;
DTSTART;TZID=Europe/Madrid;VALUE=DATE-TIME:20200214T173000
DTEND;TZID=Europe/Madrid;VALUE=DATE-TIME:20200214T183000
DTSTAMP;VALUE=DATE-TIME:20260426T013452Z
UID:db50edb40d284bdf0dd551b5ca882742
CREATED;VALUE=DATE-TIME:20200214T000000Z
CATEGORIES:Literatura,Infantils
LOCATION:Biblioteca Can Milans - C/ Esglèsia, 6
ORGANIZER:Biblioteca Can Milans. Ajuntament de Caldes d'Estrac
COMMENT:Preu: Activitat gratuïta
DESCRIPTION:A càrrec d'Elena Codó
URL:https://caldetes.cat/document.php?id=7614
END:VEVENT
END:VCALENDAR