BEGIN:VCALENDAR
VERSION:2.0
PRODID:-//Plone.org//NONSGML plone.app.event//EN
X-WR-TIMEZONE:Europe/Madrid
BEGIN:VEVENT
SUMMARY:Concert amb "La Principal de la Bisbal"
DTSTART;TZID=Europe/Madrid;VALUE=DATE-TIME:20100911T200000
DTEND;TZID=Europe/Madrid;VALUE=DATE-TIME:20100911T210000
DTSTAMP;VALUE=DATE-TIME:20260421T152549Z
UID:0d8a57fd70e009bd70a92335a1a80fb9
CREATED;VALUE=DATE-TIME:20100911T000000Z
LOCATION:Esplanada Can Muntanyà
ORGANIZER:Ajuntament de Caldes d'Estrac
DESCRIPTION:Festa Major 2010
URL:https://caldetes.cat/document.php?id=764
END:VEVENT
END:VCALENDAR