BEGIN:VCALENDAR
VERSION:2.0
PRODID:-//Plone.org//NONSGML plone.app.event//EN
X-WR-TIMEZONE:Europe/Madrid
BEGIN:VEVENT
SUMMARY:Xocolatada solidària
DTSTART;TZID=Europe/Madrid;VALUE=DATE-TIME:20200214T150000
DTEND;TZID=Europe/Madrid;VALUE=DATE-TIME:20200214T160000
DTSTAMP;VALUE=DATE-TIME:20260426T015849Z
UID:ff7900ec9525798e840b1d06d06c5a22
CREATED;VALUE=DATE-TIME:20200214T000000Z
CATEGORIES:Infantils
LOCATION:Escola Sagrada Família
COMMENT:Durada: De 15 a 17h
URL:https://caldetes.cat/document.php?id=7658
END:VEVENT
END:VCALENDAR