BEGIN:VCALENDAR
VERSION:2.0
PRODID:-//Plone.org//NONSGML plone.app.event//EN
X-WR-TIMEZONE:Europe/Madrid
BEGIN:VEVENT
SUMMARY:Exposició "Palau Oller, polièdric"
DTSTART;TZID=Europe/Madrid;VALUE=DATE-TIME:20100912T120000
DTEND;TZID=Europe/Madrid;VALUE=DATE-TIME:20100912T130000
DTSTAMP;VALUE=DATE-TIME:20260421T152619Z
UID:27b95845e159efed8b7022697a200dba
CREATED;VALUE=DATE-TIME:20100912T000000Z
LOCATION:Fundació Palau
ORGANIZER:Fundació Palau amb la col·laboració del Museu de l'Estampació de Premià de Mar
DESCRIPTION:Festa Major 2010
URL:https://caldetes.cat/document.php?id=766
END:VEVENT
END:VCALENDAR