BEGIN:VCALENDAR
VERSION:2.0
PRODID:-//Plone.org//NONSGML plone.app.event//EN
X-WR-TIMEZONE:Europe/Madrid
BEGIN:VEVENT
SUMMARY:Actuació de l'Esbart Dansaire d'Arenys de Munt
DTSTART;TZID=Europe/Madrid;VALUE=DATE-TIME:20100912T190000
DTEND;TZID=Europe/Madrid;VALUE=DATE-TIME:20100912T200000
DTSTAMP;VALUE=DATE-TIME:20260422T192659Z
UID:7ac69d00e62945af28355039b9e4e6c7
CREATED;VALUE=DATE-TIME:20100912T000000Z
LOCATION:Esplanada Can Muntanyà
ORGANIZER:Ajuntament de Caldes d'Estrac amb la col·laboració d'Arrels Cultura
DESCRIPTION:Festa Major 2010
URL:https://caldetes.cat/document.php?id=767
END:VEVENT
END:VCALENDAR