BEGIN:VCALENDAR
VERSION:2.0
PRODID:-//Plone.org//NONSGML plone.app.event//EN
X-WR-TIMEZONE:Europe/Madrid
BEGIN:VEVENT
SUMMARY:" Lectura intergeneracional" de temàtica feminista a càrrec de voluntaris del municipi.
DTSTART;TZID=Europe/Madrid;VALUE=DATE-TIME:20200307T110000
DTEND;TZID=Europe/Madrid;VALUE=DATE-TIME:20200307T120000
DTSTAMP;VALUE=DATE-TIME:20260426T044224Z
UID:b0fbc77eebfbff1e6f42b973d6f9a68b
CREATED;VALUE=DATE-TIME:20200307T000000Z
CATEGORIES:Literatura
LOCATION:Biblioteca Can Milans - C/ Esglèsia, 6
ORGANIZER:Àrea de Gent Gran i Cultura
COMMENT:Preu: Gratuït
URL:https://caldetes.cat/document.php?id=7672
END:VEVENT
END:VCALENDAR