BEGIN:VCALENDAR
VERSION:2.0
PRODID:-//Plone.org//NONSGML plone.app.event//EN
X-WR-TIMEZONE:Europe/Madrid
BEGIN:VEVENT
SUMMARY:Commemoració del Dia Internacional de la Dona
DTSTART;TZID=Europe/Madrid;VALUE=DATE-TIME:20200306T120000
DTEND;TZID=Europe/Madrid;VALUE=DATE-TIME:20200306T130000
DTSTAMP;VALUE=DATE-TIME:20260426T060333Z
UID:16e0e34b4d7689a6bc4968fa36ca4ad6
CREATED;VALUE=DATE-TIME:20200306T000000Z
LOCATION:Plaça de la Vila
DESCRIPTION:Lectura del manifest
URL:https://caldetes.cat/document.php?id=7697
END:VEVENT
END:VCALENDAR