BEGIN:VCALENDAR
VERSION:2.0
PRODID:-//Plone.org//NONSGML plone.app.event//EN
X-WR-TIMEZONE:Europe/Madrid
BEGIN:VEVENT
SUMMARY:3r Campionat Jove de Futbolí de Caldes d'Estrac
DTSTART;TZID=Europe/Madrid;VALUE=DATE-TIME:20100820T170000
DTEND;TZID=Europe/Madrid;VALUE=DATE-TIME:20100820T180000
DTSTAMP;VALUE=DATE-TIME:20260423T231654Z
UID:d6c69d35a29413ef6064eea24793b3a8
CREATED;VALUE=DATE-TIME:20100820T000000Z
LOCATION:Espai Jove
ORGANIZER:Espai Jove
COMMENT:Durada: fins les 20 h
URL:https://caldetes.cat/document.php?id=770
END:VEVENT
END:VCALENDAR