BEGIN:VCALENDAR
VERSION:2.0
PRODID:-//Plone.org//NONSGML plone.app.event//EN
X-WR-TIMEZONE:Europe/Madrid
BEGIN:VEVENT
SUMMARY:Ajornada la Ruta gastronòmica del pèsol
DTSTART;TZID=Europe/Madrid;VALUE=DATE-TIME:20200315T000000
DTEND;TZID=Europe/Madrid;VALUE=DATE-TIME:20200315T010000
DTSTAMP;VALUE=DATE-TIME:20260424T145052Z
UID:b53eae4d5ea59724578b7e7faebbf44b
CREATED;VALUE=DATE-TIME:20200315T000000Z
CATEGORIES:Festa
DESCRIPTION:26a pesolada Caldes d'Estrac
URL:https://caldetes.cat/document.php?id=7702
END:VEVENT
END:VCALENDAR