BEGIN:VCALENDAR
VERSION:2.0
PRODID:-//Plone.org//NONSGML plone.app.event//EN
X-WR-TIMEZONE:Europe/Madrid
BEGIN:VEVENT
SUMMARY:Sortim a passejar
DTSTART;TZID=Europe/Madrid;VALUE=DATE-TIME:20100915T000000
DTEND;TZID=Europe/Madrid;VALUE=DATE-TIME:20100915T010000
DTSTAMP;VALUE=DATE-TIME:20260424T162433Z
UID:d09e164b3ab6b0f275e8dcef6d26e770
CREATED;VALUE=DATE-TIME:20100915T000000Z
ORGANIZER:Regidoria de Serveis Socials
URL:https://caldetes.cat/document.php?id=772
END:VEVENT
END:VCALENDAR