BEGIN:VCALENDAR
VERSION:2.0
PRODID:-//Plone.org//NONSGML plone.app.event//EN
X-WR-TIMEZONE:Europe/Madrid
BEGIN:VEVENT
SUMMARY:Exposició "Heroïnes"
DTSTART;TZID=Europe/Madrid;VALUE=DATE-TIME:20100918T190000
DTEND;TZID=Europe/Madrid;VALUE=DATE-TIME:20100918T200000
DTSTAMP;VALUE=DATE-TIME:20260421T152632Z
UID:562ae7d9856b500c3c5970fe15ce9849
CREATED;VALUE=DATE-TIME:20100918T000000Z
LOCATION:Equipament de Promoció Econòmica i Cultural
ORGANIZER:Associació de Dones de Caldes d'Estrac amb la col·laboració de l'Asociación Española contre el Cáncer, Ajuntament de Caldes d'Estrac i Fundació Palau
DESCRIPTION:En ocasió del Dia Internacional de la Lluita contra el Cáncer de Mama
URL:https://caldetes.cat/document.php?id=777
END:VEVENT
END:VCALENDAR