BEGIN:VCALENDAR
VERSION:2.0
PRODID:-//Plone.org//NONSGML plone.app.event//EN
X-WR-TIMEZONE:Europe/Madrid
BEGIN:VEVENT
SUMMARY:1r Festival de Jazz de Caldes
DTSTART;TZID=Europe/Madrid;VALUE=DATE-TIME:20100902T210000
DTEND;TZID=Europe/Madrid;VALUE=DATE-TIME:20100902T220000
DTSTAMP;VALUE=DATE-TIME:20260422T083915Z
UID:4e3a45ec72a11e92c71416ce25acee27
CREATED;VALUE=DATE-TIME:20100902T000000Z
LOCATION:Parc Joan Maragall
ORGANIZER:Associació Esportiva Mar i Natura
DESCRIPTION:Amb l'actuació de "Mozzaic"
URL:https://caldetes.cat/document.php?id=783
END:VEVENT
END:VCALENDAR