BEGIN:VCALENDAR
VERSION:2.0
PRODID:-//Plone.org//NONSGML plone.app.event//EN
X-WR-TIMEZONE:Europe/Madrid
BEGIN:VEVENT
SUMMARY:HORA DEL CONTE
DTSTART;TZID=Europe/Madrid;VALUE=DATE-TIME:20200619T190000
DTEND;TZID=Europe/Madrid;VALUE=DATE-TIME:20200619T200000
DTSTAMP;VALUE=DATE-TIME:20260425T231916Z
UID:5ab0ef25b344c22c5d4094d75cd3c7b0
CREATED;VALUE=DATE-TIME:20200619T000000Z
CATEGORIES:Literatura,Infantils
LOCATION:Format virtual. En directe a Instagram (@bcanmilans) i Facebook (@CanMilans)
ORGANIZER:Biblioteca Can Milans i Ajuntament de Clades d'Estrac
COMMENT:Durada: 30 minuts
DESCRIPTION:A càrrec d'Eduard Costa
URL:https://caldetes.cat/document.php?id=7838
END:VEVENT
END:VCALENDAR