BEGIN:VCALENDAR
VERSION:2.0
PRODID:-//Plone.org//NONSGML plone.app.event//EN
X-WR-TIMEZONE:Europe/Madrid
BEGIN:VEVENT
SUMMARY:TALLER VIRTUAL D'ESCRIPTURA PERSONAL
DTSTART;TZID=Europe/Madrid;VALUE=DATE-TIME:20200731T180000
DTEND;TZID=Europe/Madrid;VALUE=DATE-TIME:20200731T190000
DTSTAMP;VALUE=DATE-TIME:20260423T130812Z
UID:6fb0b283efb4780b85f4989a6fff6fec
CREATED;VALUE=DATE-TIME:20200703T000000Z
CATEGORIES:Cursos,Literatura
LOCATION:Format Virtual.
ORGANIZER:Biblioteca Can Milans i Ajuntament de Caldes d'Estrac
COMMENT:Preu: Gratuït. Places limitades. Cal inscripció prèvia.
Durada: Tots els divendres de juliol / De 18.00 h a 20.00 h
DESCRIPTION:A càrrec de Francesc Hernàndez, guionista, dramaturg, professor de guió cinematogràfic i novel·la negra. Conductor de diferents tallers d'escriptura creativa i terapèutica.
URL:https://caldetes.cat/document.php?id=7847
END:VEVENT
END:VCALENDAR