BEGIN:VCALENDAR
VERSION:2.0
PRODID:-//Plone.org//NONSGML plone.app.event//EN
X-WR-TIMEZONE:Europe/Madrid
BEGIN:VEVENT
SUMMARY:Festival Poesia i + 2020
DTSTART;TZID=Europe/Madrid;VALUE=DATE-TIME:20200702T211500
DTEND;TZID=Europe/Madrid;VALUE=DATE-TIME:20200702T221500
DTSTAMP;VALUE=DATE-TIME:20260425T132356Z
UID:133f9e61d29c03b7750edb85e72c894c
CREATED;VALUE=DATE-TIME:20200702T000000Z
CATEGORIES:Música
LOCATION:Altre (ho explico més avall)
ORGANIZER:Fundació Palau, Ajuntament de Caldes d'Estrac i Ajuntament de Canet de Mar
COMMENT:Preu: Gratuït
DESCRIPTION:Blanca Llum Vidal + Los Sara Fontán
URL:https://caldetes.cat/document.php?id=7858
END:VEVENT
END:VCALENDAR