BEGIN:VCALENDAR
VERSION:2.0
PRODID:-//Plone.org//NONSGML plone.app.event//EN
X-WR-TIMEZONE:Europe/Madrid
BEGIN:VEVENT
SUMMARY:Conferència-Col·loqui sobre "Patologia i prevenció del càncer de mama
DTSTART;TZID=Europe/Madrid;VALUE=DATE-TIME:20100918T190000
DTEND;TZID=Europe/Madrid;VALUE=DATE-TIME:20100918T200000
DTSTAMP;VALUE=DATE-TIME:20260426T032632Z
UID:79c16464b31b1cb2575fb9f0501a71f3
CREATED;VALUE=DATE-TIME:20100918T000000Z
LOCATION:Equipament de Promoció Econòmica i Cultural
ORGANIZER:Associació de Dones de Caldes d'Estrac amb la col·laboració de l'Asociación Española contre el Cáncer, Ajuntament de Caldes d'Estrac i Fundació Palau
DESCRIPTION:a càrrec de la Doctora caldenca, Teresa Barba, ginecòloga.
URL:https://caldetes.cat/document.php?id=786
END:VEVENT
END:VCALENDAR