BEGIN:VCALENDAR
VERSION:2.0
PRODID:-//Plone.org//NONSGML plone.app.event//EN
X-WR-TIMEZONE:Europe/Madrid
BEGIN:VEVENT
SUMMARY:Festival Poesia i + 2020
DTSTART;TZID=Europe/Madrid;VALUE=DATE-TIME:20200703T203000
DTEND;TZID=Europe/Madrid;VALUE=DATE-TIME:20200703T213000
DTSTAMP;VALUE=DATE-TIME:20260426T042043Z
UID:c805c1155db9104e7580a1c4223596a3
CREATED;VALUE=DATE-TIME:20200703T000000Z
CATEGORIES:Música
LOCATION:Pèrgola Can Muntanyà - Parc Can Muntanyà
ORGANIZER:Fundació Palau i Ajuntament de Caldes d'Estrac
COMMENT:Preu: 15&euro; entrada conjunta (2 concerts)
DESCRIPTION:Carles Viarnès + Elvira Prado-Fabregat, "No parlis fort"
URL:https://caldetes.cat/document.php?id=7865
END:VEVENT
END:VCALENDAR