BEGIN:VCALENDAR
VERSION:2.0
PRODID:-//Plone.org//NONSGML plone.app.event//EN
X-WR-TIMEZONE:Europe/Madrid
BEGIN:VEVENT
SUMMARY:Festival Poesia i + 2020
DTSTART;TZID=Europe/Madrid;VALUE=DATE-TIME:20200704T203000
DTEND;TZID=Europe/Madrid;VALUE=DATE-TIME:20200704T213000
DTSTAMP;VALUE=DATE-TIME:20260425T214451Z
UID:7551c98af4d8fac8b13a309b1bfb1e1b
CREATED;VALUE=DATE-TIME:20200704T000000Z
CATEGORIES:Música
LOCATION:Pèrgola Can Muntanyà - Parc Can Muntanyà
ORGANIZER:Fundació Palau i Ajuntament de Caldes d'Estrac
COMMENT:Preu: 15&euro; entrada conjunta (2 concerts)
DESCRIPTION:Clàudia Cabero
URL:https://caldetes.cat/document.php?id=7868
END:VEVENT
END:VCALENDAR