BEGIN:VCALENDAR
VERSION:2.0
PRODID:-//Plone.org//NONSGML plone.app.event//EN
X-WR-TIMEZONE:Europe/Madrid
BEGIN:VEVENT
SUMMARY:Festival Poesia i + 2020
DTSTART;TZID=Europe/Madrid;VALUE=DATE-TIME:20200709T190000
DTEND;TZID=Europe/Madrid;VALUE=DATE-TIME:20200709T200000
DTSTAMP;VALUE=DATE-TIME:20260425T190210Z
UID:14573d69d101779001c4b6f26bb4c2e6
CREATED;VALUE=DATE-TIME:20200709T000000Z
CATEGORIES:Música
LOCATION:Streaming
ORGANIZER:Fundació Palau i Ajuntament de Caldes d'Estrac
COMMENT:Durada: Estel Solé + Jordi Busquets
DESCRIPTION:Estel Solé + Jordi Busquets
URL:https://caldetes.cat/document.php?id=7873
END:VEVENT
END:VCALENDAR