BEGIN:VCALENDAR
VERSION:2.0
PRODID:-//Plone.org//NONSGML plone.app.event//EN
X-WR-TIMEZONE:Europe/Madrid
BEGIN:VEVENT
SUMMARY:Festival Poesia i + 2020
DTSTART;TZID=Europe/Madrid;VALUE=DATE-TIME:20200709T211500
DTEND;TZID=Europe/Madrid;VALUE=DATE-TIME:20200709T221500
DTSTAMP;VALUE=DATE-TIME:20260425T210658Z
UID:7f7f60ba9a56ae7a6843b9eb076b2f12
CREATED;VALUE=DATE-TIME:20200709T000000Z
CATEGORIES:Música
LOCATION:Pèrgola Can Muntanyà - Parc Can Muntanyà
ORGANIZER:Fundació Palau i Ajuntament de Caldes d'Estrac
COMMENT:Preu: 15&euro; entrada conjunta (2 concerts)
DESCRIPTION:Mishima
URL:https://caldetes.cat/document.php?id=7875
END:VEVENT
END:VCALENDAR