BEGIN:VCALENDAR
VERSION:2.0
PRODID:-//Plone.org//NONSGML plone.app.event//EN
X-WR-TIMEZONE:Europe/Madrid
BEGIN:VEVENT
SUMMARY:Festival Poesia i + 2020
DTSTART;TZID=Europe/Madrid;VALUE=DATE-TIME:20200710T211500
DTEND;TZID=Europe/Madrid;VALUE=DATE-TIME:20200710T221500
DTSTAMP;VALUE=DATE-TIME:20260424T013106Z
UID:211be71ea4c8a887fafa06bc3e3098c0
CREATED;VALUE=DATE-TIME:20200710T000000Z
CATEGORIES:Música
LOCATION:Pèrgola Can Muntanyà - Parc Can Muntanyà
ORGANIZER:Fundació Palau i Ajuntament de Caldes d'Estrac
COMMENT:Preu: 15&euro; entrada conjunta (2 concerts)
DESCRIPTION:Christina Rosenvinge
URL:https://caldetes.cat/document.php?id=7878
END:VEVENT
END:VCALENDAR