BEGIN:VCALENDAR
VERSION:2.0
PRODID:-//Plone.org//NONSGML plone.app.event//EN
X-WR-TIMEZONE:Europe/Madrid
BEGIN:VEVENT
SUMMARY:Festival Poesia i + 2020
DTSTART;TZID=Europe/Madrid;VALUE=DATE-TIME:20200711T203000
DTEND;TZID=Europe/Madrid;VALUE=DATE-TIME:20200711T213000
DTSTAMP;VALUE=DATE-TIME:20260425T164558Z
UID:0de52dbb8ea91414b45ce38b306280fc
CREATED;VALUE=DATE-TIME:20200711T000000Z
CATEGORIES:Literatura
LOCATION:Pèrgola Can Muntanyà - Parc Can Muntanyà
ORGANIZER:Fundació Palau i Ajuntament de Caldes d'Estrac
COMMENT:Preu: 15&euro; entrada conjunta (2 concerts)
DESCRIPTION:Nit de Poetes: Yolanda Castaño, Albert Balasch i Josep Pedrals
URL:https://caldetes.cat/document.php?id=7881
END:VEVENT
END:VCALENDAR