BEGIN:VCALENDAR
VERSION:2.0
PRODID:-//Plone.org//NONSGML plone.app.event//EN
X-WR-TIMEZONE:Europe/Madrid
BEGIN:VEVENT
SUMMARY:Festival Poesia i + 2020
DTSTART;TZID=Europe/Madrid;VALUE=DATE-TIME:20200712T190000
DTEND;TZID=Europe/Madrid;VALUE=DATE-TIME:20200712T200000
DTSTAMP;VALUE=DATE-TIME:20260426T041021Z
UID:de464bbae98107038ab44520c4de022a
CREATED;VALUE=DATE-TIME:20200712T000000Z
CATEGORIES:Literatura,Música
LOCATION:Streaming
ORGANIZER:Fundació Palau, Ajuntament de Caldes d'Estrac i Ajuntament de Dosrius
COMMENT:Preu: Gratuït
DESCRIPTION:Nois Tutú (Gerard Altaió i David Caño)
URL:https://caldetes.cat/document.php?id=7885
END:VEVENT
END:VCALENDAR