BEGIN:VCALENDAR
VERSION:2.0
PRODID:-//Plone.org//NONSGML plone.app.event//EN
X-WR-TIMEZONE:Europe/Madrid
BEGIN:VEVENT
SUMMARY:Festival Poesia i + 2020
DTSTART;TZID=Europe/Madrid;VALUE=DATE-TIME:20200712T203000
DTEND;TZID=Europe/Madrid;VALUE=DATE-TIME:20200712T213000
DTSTAMP;VALUE=DATE-TIME:20260425T142846Z
UID:410ad9d2385909e930ccec71eb93b20c
CREATED;VALUE=DATE-TIME:20200712T000000Z
CATEGORIES:Música
LOCATION:Pèrgola Can Muntanyà - Parc Can Muntanyà
ORGANIZER:Fundació Palau i Ajuntament de Caldes d'Estrac
COMMENT:Preu: 15&euro; entrada conjunta (2 concerts)
DESCRIPTION:Versonautas
URL:https://caldetes.cat/document.php?id=7886
END:VEVENT
END:VCALENDAR