BEGIN:VCALENDAR
VERSION:2.0
PRODID:-//Plone.org//NONSGML plone.app.event//EN
X-WR-TIMEZONE:Europe/Madrid
BEGIN:VEVENT
SUMMARY:Festival Poesia i + 2020
DTSTART;TZID=Europe/Madrid;VALUE=DATE-TIME:20200712T211500
DTEND;TZID=Europe/Madrid;VALUE=DATE-TIME:20200712T221500
DTSTAMP;VALUE=DATE-TIME:20260423T062511Z
UID:6fc3717fe8b9d74a59450a85611fc2c2
CREATED;VALUE=DATE-TIME:20200712T000000Z
CATEGORIES:Música
LOCATION:Pèrgola Can Muntanyà - Parc Can Muntanyà
ORGANIZER:Fundació Palau i Ajuntament de Caldes d'Estrac
COMMENT:Preu: 15&euro; entrada conjunta (2 concerts)
DESCRIPTION:Joan Garriga i el Mariatxi galàctic
URL:https://caldetes.cat/document.php?id=7887
END:VEVENT
END:VCALENDAR