BEGIN:VCALENDAR
VERSION:2.0
PRODID:-//Plone.org//NONSGML plone.app.event//EN
X-WR-TIMEZONE:Europe/Madrid
BEGIN:VEVENT
SUMMARY:PROMOCIÓ ESTIU 2020
DTSTART;TZID=Europe/Madrid;VALUE=DATE-TIME:20200831T000000
DTEND;TZID=Europe/Madrid;VALUE=DATE-TIME:20200831T010000
DTSTAMP;VALUE=DATE-TIME:20260424T001212Z
UID:01cb5880b76c4d9a44965dff1455bbbb
CREATED;VALUE=DATE-TIME:20200701T000000Z
CATEGORIES:Esports
LOCATION:Complex Esportiu Municipal
ORGANIZER:SIGE 2005, S.L.
COMMENT:Durada: Fins el 31 d'agost de 2020
DESCRIPTION:AMB MÉS FORÇA QUE MAI!
URL:https://caldetes.cat/document.php?id=7894
END:VEVENT
END:VCALENDAR