BEGIN:VCALENDAR
VERSION:2.0
PRODID:-//Plone.org//NONSGML plone.app.event//EN
X-WR-TIMEZONE:Europe/Madrid
BEGIN:VEVENT
SUMMARY:DECORACIÓ I TINT DE SAMARRETES
DTSTART;TZID=Europe/Madrid;VALUE=DATE-TIME:20200813T173000
DTEND;TZID=Europe/Madrid;VALUE=DATE-TIME:20200813T183000
DTSTAMP;VALUE=DATE-TIME:20260423T204752Z
UID:640592b32e093b2e559526d35f019fe8
CREATED;VALUE=DATE-TIME:20200813T000000Z
LOCATION:Espai Jove
ORGANIZER:Espai Jove
COMMENT:Preu: Gratuït
DESCRIPTION:Activitats d'estiu a la fresca
URL:https://caldetes.cat/document.php?id=7942
END:VEVENT
END:VCALENDAR