BEGIN:VCALENDAR
VERSION:2.0
PRODID:-//Plone.org//NONSGML plone.app.event//EN
X-WR-TIMEZONE:Europe/Madrid
BEGIN:VEVENT
SUMMARY:CONCURS DE DIBUIX
DTSTART;TZID=Europe/Madrid;VALUE=DATE-TIME:20200819T173000
DTEND;TZID=Europe/Madrid;VALUE=DATE-TIME:20200819T183000
DTSTAMP;VALUE=DATE-TIME:20260424T014056Z
UID:008723b4564ae0e796c106a0fc796c98
CREATED;VALUE=DATE-TIME:20200819T000000Z
LOCATION:Espai Jove
ORGANIZER:Espai Jove
COMMENT:Preu: Gratuït
DESCRIPTION:Activitats d'estiu a la fresca
URL:https://caldetes.cat/document.php?id=7943
END:VEVENT
END:VCALENDAR