BEGIN:VCALENDAR
VERSION:2.0
PRODID:-//Plone.org//NONSGML plone.app.event//EN
X-WR-TIMEZONE:Europe/Madrid
BEGIN:VEVENT
SUMMARY:P de poesia, P de Palau
DTSTART;TZID=Europe/Madrid;VALUE=DATE-TIME:20201003T120000
DTEND;TZID=Europe/Madrid;VALUE=DATE-TIME:20201003T130000
DTSTAMP;VALUE=DATE-TIME:20260424T125517Z
UID:479b01258d008fa43836c45ba7eb18fc
CREATED;VALUE=DATE-TIME:20201003T000000Z
CATEGORIES:Conferència
LOCATION:Fundació Palau - La Riera, 54
ORGANIZER:Fundació Palau
COMMENT:Preu: Entrada lliure
DESCRIPTION:Cicle Josep Palau i Fabre. Retrat inacabat
URL:https://caldetes.cat/document.php?id=7951
END:VEVENT
END:VCALENDAR