BEGIN:VCALENDAR
VERSION:2.0
PRODID:-//Plone.org//NONSGML plone.app.event//EN
X-WR-TIMEZONE:Europe/Madrid
BEGIN:VEVENT
SUMMARY:HORA DEL CONTE. 'El bosc del cargol'
DTSTART;TZID=Europe/Madrid;VALUE=DATE-TIME:20200925T000000
DTEND;TZID=Europe/Madrid;VALUE=DATE-TIME:20200925T010000
DTSTAMP;VALUE=DATE-TIME:20260423T185730Z
UID:7432eefdd032fce4baae502786417afb
CREATED;VALUE=DATE-TIME:20200925T000000Z
CATEGORIES:Literatura,Infantils
LOCATION:En format virtual. A l'Instagram de la Biblioteca @bcanmilans
ORGANIZER:Biblioteca Can Milans i Ajuntament de Clades d'Estrac
COMMENT:Durada: Dies 25, 26 i 27 de setembre. Durant tot el dia a l'Instagram de la Biblioteca
DESCRIPTION:A càrrec de Marta Catalan
URL:https://caldetes.cat/document.php?id=7972
END:VEVENT
END:VCALENDAR