BEGIN:VCALENDAR
VERSION:2.0
PRODID:-//Plone.org//NONSGML plone.app.event//EN
X-WR-TIMEZONE:Europe/Madrid
BEGIN:VEVENT
SUMMARY:Ferran Freixa. Passat i present
DTSTART;TZID=Europe/Madrid;VALUE=DATE-TIME:20210321T000000
DTEND;TZID=Europe/Madrid;VALUE=DATE-TIME:20210321T010000
DTSTAMP;VALUE=DATE-TIME:20260422T002034Z
UID:1e623a8e8d4095147f02288e1a6b497f
CREATED;VALUE=DATE-TIME:20201114T000000Z
CATEGORIES:Exposició
LOCATION:Fundació Palau - La Riera, 54
ORGANIZER:Fundació Palau
DESCRIPTION:Exposició del 14 de novembre al 21 de març de 2021
URL:https://caldetes.cat/document.php?id=8005
END:VEVENT
END:VCALENDAR