BEGIN:VCALENDAR
VERSION:2.0
PRODID:-//Plone.org//NONSGML plone.app.event//EN
X-WR-TIMEZONE:Europe/Madrid
BEGIN:VEVENT
SUMMARY:MITES I ARQUETIPS FEMENINS EN L´OBRA ASSAGÍSTICA DE JOSEP PALAU I FABRE ( A càrrec de Teresa Costa-Gramunt)
DTSTART;TZID=Europe/Madrid;VALUE=DATE-TIME:20201212T120000
DTEND;TZID=Europe/Madrid;VALUE=DATE-TIME:20201212T130000
DTSTAMP;VALUE=DATE-TIME:20260424T210529Z
UID:3f5a91f67ffdeca970a20ed709c4b7d4
CREATED;VALUE=DATE-TIME:20201212T000000Z
CATEGORIES:Conferència
LOCATION:Fundació Palau - La Riera, 54
ORGANIZER:Fundació Palau
COMMENT:Preu: Gratuït
DESCRIPTION:CICLE JOSEP PALAU I FABRE: RETRAT INACABAT 2020
URL:https://caldetes.cat/document.php?id=8012
END:VEVENT
END:VCALENDAR