BEGIN:VCALENDAR
VERSION:2.0
PRODID:-//Plone.org//NONSGML plone.app.event//EN
X-WR-TIMEZONE:Europe/Madrid
BEGIN:VEVENT
SUMMARY:"Contes de Nadal de les germanes Baldufa"  de la companyia Tanaka Teatre
DTSTART;TZID=Europe/Madrid;VALUE=DATE-TIME:20201220T113000
DTEND;TZID=Europe/Madrid;VALUE=DATE-TIME:20201220T123000
DTSTAMP;VALUE=DATE-TIME:20260425T230725Z
UID:77e470d8882b21a6c7e80b609897d814
CREATED;VALUE=DATE-TIME:20201220T000000Z
CATEGORIES:Infantils
LOCATION:Fundació Palau - La Riera, 54
ORGANIZER:Fundació Palau i Ajuntament de Caldes d'Estrac
COMMENT:Preu: 3&euro; per nen/na
Durada: 1hora
DESCRIPTION:Espectacle ideal per a celebrar les Festes de Nadal i aprendre com viuen aquestes dates els nens i nenes d´arreu del món.
URL:https://caldetes.cat/document.php?id=8015
END:VEVENT
END:VCALENDAR